BEGIN:VCALENDAR
VERSION:2.0
PRODID:-//TRC Race Management - ECPv6.15.20//NONSGML v1.0//EN
CALSCALE:GREGORIAN
METHOD:PUBLISH
X-ORIGINAL-URL:https://trcrace.com
X-WR-CALDESC:Events for TRC Race Management
REFRESH-INTERVAL;VALUE=DURATION:PT1H
X-Robots-Tag:noindex
X-PUBLISHED-TTL:PT1H
BEGIN:VTIMEZONE
TZID:America/New_York
BEGIN:DAYLIGHT
TZOFFSETFROM:-0500
TZOFFSETTO:-0400
TZNAME:EDT
DTSTART:20240310T070000
END:DAYLIGHT
BEGIN:STANDARD
TZOFFSETFROM:-0400
TZOFFSETTO:-0500
TZNAME:EST
DTSTART:20241103T060000
END:STANDARD
BEGIN:DAYLIGHT
TZOFFSETFROM:-0500
TZOFFSETTO:-0400
TZNAME:EDT
DTSTART:20250309T070000
END:DAYLIGHT
BEGIN:STANDARD
TZOFFSETFROM:-0400
TZOFFSETTO:-0500
TZNAME:EST
DTSTART:20251102T060000
END:STANDARD
BEGIN:DAYLIGHT
TZOFFSETFROM:-0500
TZOFFSETTO:-0400
TZNAME:EDT
DTSTART:20260308T070000
END:DAYLIGHT
BEGIN:STANDARD
TZOFFSETFROM:-0400
TZOFFSETTO:-0500
TZNAME:EST
DTSTART:20261101T060000
END:STANDARD
END:VTIMEZONE
BEGIN:VEVENT
DTSTART;TZID=America/New_York:20251101T080000
DTEND;TZID=America/New_York:20251101T170000
DTSTAMP:20260421T060725
CREATED:20251026T184949Z
LAST-MODIFIED:20251101T115904Z
UID:2152-1761984000-1762016400@trcrace.com
SUMMARY:2025 Caloosa Chase 5K
DESCRIPTION:RESULTS
URL:https://trcrace.com/event/2025-caloosa-chase-5k/
CATEGORIES:Current Event,Past Events,Road Races,Road Races,Upcoming Events
ATTACH;FMTTYPE=image/webp:https://trcrace.com/wp-content/uploads/2025/10/LHSLogo-WhiteBackground.webp
END:VEVENT
BEGIN:VEVENT
DTSTART;TZID=America/New_York:20251102T080000
DTEND;TZID=America/New_York:20251102T120000
DTSTAMP:20260421T060725
CREATED:20250919T130123Z
LAST-MODIFIED:20251102T191509Z
UID:2048-1762070400-1762084800@trcrace.com
SUMMARY:2025 PHSC Run with the Bobcats 5K
DESCRIPTION:RESULTS
URL:https://trcrace.com/event/2025-phsc-run-with-the-bobcats-5k/
LOCATION:Pasco Hernando State College campus
CATEGORIES:Current Event,Past Events,Road Races,Road Races,Upcoming Events
ATTACH;FMTTYPE=image/jpeg:https://trcrace.com/wp-content/uploads/2021/11/bobcat.jpg
END:VEVENT
BEGIN:VEVENT
DTSTART;TZID=America/New_York:20251104T080000
DTEND;TZID=America/New_York:20251104T110000
DTSTAMP:20260421T060725
CREATED:20251026T183840Z
LAST-MODIFIED:20251103T180535Z
UID:2151-1762243200-1762254000@trcrace.com
SUMMARY:2025 4A District 5 XC Championships
DESCRIPTION:START LIST \nRESULTS
URL:https://trcrace.com/event/2025-4a-district-5-xc-championships/
LOCATION:Holloway Park\, 2402 Holloway Park Dr\, Lakeland\, FL\, 33803\, United States
CATEGORIES:Cross Country,Cross Country,Current Event,Past Events,Upcoming Events
ATTACH;FMTTYPE=image/jpeg:https://trcrace.com/wp-content/uploads/2019/10/FHSAA-Web3.jpg
END:VEVENT
BEGIN:VEVENT
DTSTART;TZID=America/New_York:20251104T160000
DTEND;TZID=America/New_York:20251104T170000
DTSTAMP:20260421T060725
CREATED:20250818T001836Z
LAST-MODIFIED:20251104T214333Z
UID:1925-1762272000-1762275600@trcrace.com
SUMMARY:2025 FHSAA 3A District 5 XC Championships
DESCRIPTION:RESULTS
URL:https://trcrace.com/event/2025-fhsaa-3a-district-5-xc-championships/
LOCATION:Al Lopez Park\, 4810 N Himes Ave\, Tampa\, FL\, 33614\, United States
CATEGORIES:Cross Country,Cross Country,Current Event,Past Events,Upcoming Events
ATTACH;FMTTYPE=image/jpeg:https://trcrace.com/wp-content/uploads/2019/10/FHSAA-Web3.jpg
END:VEVENT
BEGIN:VEVENT
DTSTART;TZID=America/New_York:20251104T170000
DTEND;TZID=America/New_York:20251104T190000
DTSTAMP:20260421T060725
CREATED:20250706T124332Z
LAST-MODIFIED:20251103T174535Z
UID:1919-1762275600-1762282800@trcrace.com
SUMMARY:2025 FHSAA 2A District 5 XC Championships
DESCRIPTION:START LIST \nRESULTS
URL:https://trcrace.com/event/2025-fhsaa-2a-district-5-xc-championships/
LOCATION:Mary Help of Christians Center
CATEGORIES:Cross Country,Cross Country,Current Event,Past Events,Upcoming Events
ATTACH;FMTTYPE=image/jpeg:https://trcrace.com/wp-content/uploads/2019/10/FHSAA-Web3.jpg
END:VEVENT
BEGIN:VEVENT
DTSTART;TZID=America/New_York:20251108T070000
DTEND;TZID=America/New_York:20251108T100000
DTSTAMP:20260421T060725
CREATED:20250706T124955Z
LAST-MODIFIED:20251108T144152Z
UID:1921-1762585200-1762596000@trcrace.com
SUMMARY:2025 JROTC GA Raider Run
DESCRIPTION:RESULTS
URL:https://trcrace.com/event/2025-jrpotc-ga-raider-run/
CATEGORIES:Cross Country,Cross Country,Current Event,Past Events
ATTACH;FMTTYPE=image/png:https://trcrace.com/wp-content/uploads/2024/11/JRO.png
END:VEVENT
BEGIN:VEVENT
DTSTART;TZID=America/New_York:20251115T080000
DTEND;TZID=America/New_York:20251115T170000
DTSTAMP:20260421T060725
CREATED:20250706T124849Z
LAST-MODIFIED:20251115T195531Z
UID:1920-1763193600-1763226000@trcrace.com
SUMMARY:2025 JROTC Fl Raider Run
DESCRIPTION:RESULTS
URL:https://trcrace.com/event/2025-jrotc-fl-raider-run/
CATEGORIES:Cross Country,Cross Country,Current Event,Past Events,Upcoming Events
ATTACH;FMTTYPE=image/png:https://trcrace.com/wp-content/uploads/2024/11/jrotc.png
END:VEVENT
BEGIN:VEVENT
DTSTART;TZID=America/New_York:20251119T170000
DTEND;TZID=America/New_York:20251119T200000
DTSTAMP:20260421T060725
CREATED:20250919T123634Z
LAST-MODIFIED:20251119T225122Z
UID:2039-1763571600-1763582400@trcrace.com
SUMMARY:2025 Lee County MS County Championships
DESCRIPTION:RESULTS
URL:https://trcrace.com/event/2025-lee-county-ms-county-championships/
LOCATION:Kelly Rd Soccer Complex\, 10750 Kelly Rd\, Fort Myers\, FL\, 339089\, United States
CATEGORIES:Cross Country,Cross Country,Current Event,Past Events,Upcoming Events
ATTACH;FMTTYPE=image/png:https://trcrace.com/wp-content/uploads/2023/04/Lee-County.png
END:VEVENT
BEGIN:VEVENT
DTSTART;TZID=America/New_York:20251127T080000
DTEND;TZID=America/New_York:20251127T100000
DTSTAMP:20260421T060726
CREATED:20251024T102127Z
LAST-MODIFIED:20251126T114703Z
UID:2141-1764230400-1764237600@trcrace.com
SUMMARY:2025 Tampa Palms Turkey Trot
DESCRIPTION:RESULTS!!
URL:https://trcrace.com/event/2025-tampa-palms-turkey-trot/
CATEGORIES:Current Event,Past Events,Road Races,Road Races,Upcoming Events
ATTACH;FMTTYPE=image/png:https://trcrace.com/wp-content/uploads/2025/10/genericImage-websiteLogo-263168-1759319329.6916-0.bO3ruH.png
END:VEVENT
END:VCALENDAR