BEGIN:VCALENDAR
VERSION:2.0
PRODID:-//TRC Race Management - ECPv6.15.20//NONSGML v1.0//EN
CALSCALE:GREGORIAN
METHOD:PUBLISH
X-WR-CALNAME:TRC Race Management
X-ORIGINAL-URL:https://trcrace.com
X-WR-CALDESC:Events for TRC Race Management
REFRESH-INTERVAL;VALUE=DURATION:PT1H
X-Robots-Tag:noindex
X-PUBLISHED-TTL:PT1H
BEGIN:VTIMEZONE
TZID:America/New_York
BEGIN:DAYLIGHT
TZOFFSETFROM:-0500
TZOFFSETTO:-0400
TZNAME:EDT
DTSTART:20210314T070000
END:DAYLIGHT
BEGIN:STANDARD
TZOFFSETFROM:-0400
TZOFFSETTO:-0500
TZNAME:EST
DTSTART:20211107T060000
END:STANDARD
BEGIN:DAYLIGHT
TZOFFSETFROM:-0500
TZOFFSETTO:-0400
TZNAME:EDT
DTSTART:20220313T070000
END:DAYLIGHT
BEGIN:STANDARD
TZOFFSETFROM:-0400
TZOFFSETTO:-0500
TZNAME:EST
DTSTART:20221106T060000
END:STANDARD
BEGIN:DAYLIGHT
TZOFFSETFROM:-0500
TZOFFSETTO:-0400
TZNAME:EDT
DTSTART:20230312T070000
END:DAYLIGHT
BEGIN:STANDARD
TZOFFSETFROM:-0400
TZOFFSETTO:-0500
TZNAME:EST
DTSTART:20231105T060000
END:STANDARD
END:VTIMEZONE
BEGIN:VEVENT
DTSTART;TZID=America/New_York:20221018T170000
DTEND;TZID=America/New_York:20221018T190000
DTSTAMP:20260423T122951
CREATED:20221014T104235Z
LAST-MODIFIED:20221018T202415Z
UID:1248-1666112400-1666119600@trcrace.com
SUMMARY:2022 FHSAA 3A District 5 XC Championships
DESCRIPTION:RESULTS \n  \nGirls Race 5:30 \nBoys Race 6:15
URL:https://trcrace.com/event/2022-fhsaa-3a-district-5-xc-championships/
LOCATION:Mary Help of Christians Center
CATEGORIES:Cross Country,Cross Country,Current Event,Past Events,Upcoming Events
ATTACH;FMTTYPE=image/jpeg:https://trcrace.com/wp-content/uploads/2019/10/FHSAA-Web3.jpg
END:VEVENT
END:VCALENDAR