BEGIN:VCALENDAR
VERSION:2.0
PRODID:-//TRC Race Management - ECPv6.15.20//NONSGML v1.0//EN
CALSCALE:GREGORIAN
METHOD:PUBLISH
X-WR-CALNAME:TRC Race Management
X-ORIGINAL-URL:https://trcrace.com
X-WR-CALDESC:Events for TRC Race Management
REFRESH-INTERVAL;VALUE=DURATION:PT1H
X-Robots-Tag:noindex
X-PUBLISHED-TTL:PT1H
BEGIN:VTIMEZONE
TZID:America/New_York
BEGIN:DAYLIGHT
TZOFFSETFROM:-0500
TZOFFSETTO:-0400
TZNAME:EDT
DTSTART:20210314T070000
END:DAYLIGHT
BEGIN:STANDARD
TZOFFSETFROM:-0400
TZOFFSETTO:-0500
TZNAME:EST
DTSTART:20211107T060000
END:STANDARD
BEGIN:DAYLIGHT
TZOFFSETFROM:-0500
TZOFFSETTO:-0400
TZNAME:EDT
DTSTART:20220313T070000
END:DAYLIGHT
BEGIN:STANDARD
TZOFFSETFROM:-0400
TZOFFSETTO:-0500
TZNAME:EST
DTSTART:20221106T060000
END:STANDARD
BEGIN:DAYLIGHT
TZOFFSETFROM:-0500
TZOFFSETTO:-0400
TZNAME:EDT
DTSTART:20230312T070000
END:DAYLIGHT
BEGIN:STANDARD
TZOFFSETFROM:-0400
TZOFFSETTO:-0500
TZNAME:EST
DTSTART:20231105T060000
END:STANDARD
END:VTIMEZONE
BEGIN:VEVENT
DTSTART;TZID=America/New_York:20221218T073000
DTEND;TZID=America/New_York:20221218T120000
DTSTAMP:20260423T150651
CREATED:20221208T112439Z
LAST-MODIFIED:20221218T022749Z
UID:1271-1671348600-1671364800@trcrace.com
SUMMARY:2022 Mustang Winter Running Festival
DESCRIPTION:1 MILE RESULTS \n3K RESULTS \nA middle and elementary school race for boys and girls\, 1 mile and 3K race \nKinder- 2nd grade boys and girls 1 mile race \n3rd-5th grade boys and girls 1 mile Race \nMiddle school boys and girls 1 mile \nOpen championship  boys and girls 3K \nAwards and Prizes to top 3 and top 5 for 3k championship in each division \nTop School most runners sign up \nTop School or Club top 5 runners average
URL:https://trcrace.com/event/2022-mustang-winter-running-festival/
LOCATION:Wiregrass Ranch High School
CATEGORIES:Cross Country,Cross Country,Current Event,Past Events,Upcoming Events
ATTACH;FMTTYPE=image/webp:https://trcrace.com/wp-content/uploads/2022/12/rsw_365h_274cg_true.webp
END:VEVENT
END:VCALENDAR