BEGIN:VCALENDAR
VERSION:2.0
PRODID:-//TRC Race Management - ECPv6.15.20//NONSGML v1.0//EN
CALSCALE:GREGORIAN
METHOD:PUBLISH
X-ORIGINAL-URL:https://trcrace.com
X-WR-CALDESC:Events for TRC Race Management
REFRESH-INTERVAL;VALUE=DURATION:PT1H
X-Robots-Tag:noindex
X-PUBLISHED-TTL:PT1H
BEGIN:VTIMEZONE
TZID:America/New_York
BEGIN:DAYLIGHT
TZOFFSETFROM:-0500
TZOFFSETTO:-0400
TZNAME:EDT
DTSTART:20240310T070000
END:DAYLIGHT
BEGIN:STANDARD
TZOFFSETFROM:-0400
TZOFFSETTO:-0500
TZNAME:EST
DTSTART:20241103T060000
END:STANDARD
BEGIN:DAYLIGHT
TZOFFSETFROM:-0500
TZOFFSETTO:-0400
TZNAME:EDT
DTSTART:20250309T070000
END:DAYLIGHT
BEGIN:STANDARD
TZOFFSETFROM:-0400
TZOFFSETTO:-0500
TZNAME:EST
DTSTART:20251102T060000
END:STANDARD
BEGIN:DAYLIGHT
TZOFFSETFROM:-0500
TZOFFSETTO:-0400
TZNAME:EDT
DTSTART:20260308T070000
END:DAYLIGHT
BEGIN:STANDARD
TZOFFSETFROM:-0400
TZOFFSETTO:-0500
TZNAME:EST
DTSTART:20261101T060000
END:STANDARD
END:VTIMEZONE
BEGIN:VEVENT
DTSTART;TZID=America/New_York:20251104T080000
DTEND;TZID=America/New_York:20251104T110000
DTSTAMP:20260425T111805
CREATED:20251026T183840Z
LAST-MODIFIED:20251103T180535Z
UID:2151-1762243200-1762254000@trcrace.com
SUMMARY:2025 4A District 5 XC Championships
DESCRIPTION:START LIST \nRESULTS
URL:https://trcrace.com/event/2025-4a-district-5-xc-championships/
LOCATION:Holloway Park\, 2402 Holloway Park Dr\, Lakeland\, FL\, 33803\, United States
CATEGORIES:Cross Country,Cross Country,Current Event,Past Events,Upcoming Events
ATTACH;FMTTYPE=image/jpeg:https://trcrace.com/wp-content/uploads/2019/10/FHSAA-Web3.jpg
END:VEVENT
BEGIN:VEVENT
DTSTART;TZID=America/New_York:20251104T160000
DTEND;TZID=America/New_York:20251104T170000
DTSTAMP:20260425T111805
CREATED:20250818T001836Z
LAST-MODIFIED:20251104T214333Z
UID:1925-1762272000-1762275600@trcrace.com
SUMMARY:2025 FHSAA 3A District 5 XC Championships
DESCRIPTION:RESULTS
URL:https://trcrace.com/event/2025-fhsaa-3a-district-5-xc-championships/
LOCATION:Al Lopez Park\, 4810 N Himes Ave\, Tampa\, FL\, 33614\, United States
CATEGORIES:Cross Country,Cross Country,Current Event,Past Events,Upcoming Events
ATTACH;FMTTYPE=image/jpeg:https://trcrace.com/wp-content/uploads/2019/10/FHSAA-Web3.jpg
END:VEVENT
BEGIN:VEVENT
DTSTART;TZID=America/New_York:20251104T170000
DTEND;TZID=America/New_York:20251104T190000
DTSTAMP:20260425T111805
CREATED:20250706T124332Z
LAST-MODIFIED:20251103T174535Z
UID:1919-1762275600-1762282800@trcrace.com
SUMMARY:2025 FHSAA 2A District 5 XC Championships
DESCRIPTION:START LIST \nRESULTS
URL:https://trcrace.com/event/2025-fhsaa-2a-district-5-xc-championships/
LOCATION:Mary Help of Christians Center
CATEGORIES:Cross Country,Cross Country,Current Event,Past Events,Upcoming Events
ATTACH;FMTTYPE=image/jpeg:https://trcrace.com/wp-content/uploads/2019/10/FHSAA-Web3.jpg
END:VEVENT
END:VCALENDAR